BEGIN:VCALENDAR
VERSION:2.0
PRODID:-//Autograf//Djoin//NO
METHOD:PUBLISH
BEGIN:VTIMEZONE
TZID:Europe/Oslo
BEGIN:DAYLIGHT
TZOFFSETFROM:+0100
RRULE:FREQ=YEARLY;BYMONTH=3;BYDAY=-1SU
DTSTART:19810329T020000
TZNAME:CEST
TZOFFSETTO:+0200
END:DAYLIGHT
BEGIN:STANDARD
TZOFFSETFROM:+0200
RRULE:FREQ=YEARLY;BYMONTH=10;BYDAY=-1SU
DTSTART:19961027T030000
TZNAME:CET
TZOFFSETTO:+0100
END:STANDARD
END:VTIMEZONE
BEGIN:VEVENT
UID:99491980d77cd465924a45c28e03e7f2
DTSTAMP:20260423T173310Z
DTSTART;VALUE=DATE:20130928
DTEND;TZID=Europe/Oslo:20130929T110000Z
URL:https://www.madlaspeiderne.no/aktivitet/66
SUMMARY:Bever onsdag: Tur til Melshei speiderhytte
LOCATION:Madla speiderhus
END:VEVENT
END:VCALENDAR